BEGIN:VCALENDAR
VERSION:2.0
PRODID:-//APC - Villeneuve d&#039;Ascq - ECPv6.15.20//NONSGML v1.0//EN
CALSCALE:GREGORIAN
METHOD:PUBLISH
X-ORIGINAL-URL:https://apcvilleneuvedascq.fr
X-WR-CALDESC:Évènements pour APC - Villeneuve d&#039;Ascq
REFRESH-INTERVAL;VALUE=DURATION:PT1H
X-Robots-Tag:noindex
X-PUBLISHED-TTL:PT1H
BEGIN:VTIMEZONE
TZID:Europe/Paris
BEGIN:DAYLIGHT
TZOFFSETFROM:+0100
TZOFFSETTO:+0200
TZNAME:CEST
DTSTART:20230326T010000
END:DAYLIGHT
BEGIN:STANDARD
TZOFFSETFROM:+0200
TZOFFSETTO:+0100
TZNAME:CET
DTSTART:20231029T010000
END:STANDARD
BEGIN:DAYLIGHT
TZOFFSETFROM:+0100
TZOFFSETTO:+0200
TZNAME:CEST
DTSTART:20240331T010000
END:DAYLIGHT
BEGIN:STANDARD
TZOFFSETFROM:+0200
TZOFFSETTO:+0100
TZNAME:CET
DTSTART:20241027T010000
END:STANDARD
BEGIN:DAYLIGHT
TZOFFSETFROM:+0100
TZOFFSETTO:+0200
TZNAME:CEST
DTSTART:20250330T010000
END:DAYLIGHT
BEGIN:STANDARD
TZOFFSETFROM:+0200
TZOFFSETTO:+0100
TZNAME:CET
DTSTART:20251026T010000
END:STANDARD
END:VTIMEZONE
BEGIN:VEVENT
DTSTART;TZID=Europe/Paris:20240505T143000
DTEND;TZID=Europe/Paris:20240505T173000
DTSTAMP:20260425T185223
CREATED:20240423T144728Z
LAST-MODIFIED:20240426T130216Z
UID:3665-1714919400-1714930200@apcvilleneuvedascq.fr
SUMMARY:Le bonheur est dans le Jardin !
DESCRIPTION:Dimanche 5 mai de 14h30 à 17h30\, venez à la (re)-découverte du Musée du Terroir. Le thème de cet après-midi est le « bonheur est dans le jardin ». \nL’APC associée aux Jardiniers de Villeneuve d’Ascq proposent les activités suivantes : \n\nDécouverte et entretien du jardin partagé « Incroyables Comestibles » devant le musée du terroir (plantations\, identification des plantes)  ;\nAtelier reconnaissance de graines et découvertes des semences locales ;\nPrésence de la Grainothèque.\n\nEstaminet ouvert (gaufres et musique)\nGratuit- sans réservation
URL:https://apcvilleneuvedascq.fr/event/le-bonheur-est-dans-le-jardin/
LOCATION:Musée du Terroir\, 12 carrière Delporte\, Villeneuve d'Ascq\, 59650
END:VEVENT
BEGIN:VEVENT
DTSTART;TZID=Europe/Paris:20240502T181500
DTEND;TZID=Europe/Paris:20240502T191500
DTSTAMP:20260425T185223
CREATED:20240221T083102Z
LAST-MODIFIED:20240221T083327Z
UID:3404-1714673700-1714677300@apcvilleneuvedascq.fr
SUMMARY:Permanence de la Grainothèque
DESCRIPTION:L’ équipe de la Grainothèque vous accueille tous les premiers jeudis du mois de 18h15 à 19h30 à la Ferme d’en Haut. \nPour plus d’informations\, consultez le site de la Grainothèque  : cliquez-ici.
URL:https://apcvilleneuvedascq.fr/event/permanence-de-la-grainotheque-copy/
LOCATION:La Ferme d’en Haut\, 268 Rue Jules Guesde\, Villeneuve d'Ascq\, 59650\, France
END:VEVENT
BEGIN:VEVENT
DTSTART;TZID=Europe/Paris:20240404T181500
DTEND;TZID=Europe/Paris:20240404T191500
DTSTAMP:20260425T185223
CREATED:20240221T083019Z
LAST-MODIFIED:20240221T083303Z
UID:3402-1712254500-1712258100@apcvilleneuvedascq.fr
SUMMARY:Permanence de la Grainothèque
DESCRIPTION:L’ équipe de la Grainothèque vous accueille tous les premiers jeudis du mois de 18h15 à 19h30 à la Ferme d’en Haut. \nPour plus d’informations\, consultez le site de la Grainothèque  : cliquez-ici.
URL:https://apcvilleneuvedascq.fr/event/permanence-de-la-grainotheque-2/
LOCATION:La Ferme d’en Haut\, 268 Rue Jules Guesde\, Villeneuve d'Ascq\, 59650\, France
END:VEVENT
BEGIN:VEVENT
DTSTART;TZID=Europe/Paris:20240317T150000
DTEND;TZID=Europe/Paris:20240317T180000
DTSTAMP:20260425T185223
CREATED:20240221T085944Z
LAST-MODIFIED:20240301T080836Z
UID:3422-1710687600-1710698400@apcvilleneuvedascq.fr
SUMMARY:Rencontres au vert !
DESCRIPTION:  \nDimanche 17 mars 2024\, rendez-vous à la Ferme d’en Haut de 15h à 18h pour une nouvelle édition de Rencontres au vert : à la découverte de la permaculture (Tout public\, gratuit) \nL’équipe de la Grainothèque sera présente de 15h à 18h et vous proposera d’emprunter ou d’échanger des graines potagères ou florales (semences paysannes bio et non hybridées). \nDeux ateliers semis seront proposés à cette occasion : \n\nEn matinée de 10h à 12h – « Réussir ses semis »\, un atelier animé par Amélie Sander de l’Association de Jardiniers de Villeneuve d’Ascq. Il est accessible uniquement sur inscription ;\nL’après midi de 15h à 18h – Réalisation d’un semis et mise à disposition d’une fiche explicative auprès du stand de la Grainothèque  ;\n\nPour plus d’infos sur l’évènement\, les conférences et ateliers proposés  : https://www.villeneuvedascq.fr/agenda/831/evenement/77287074/rencontres-au-vert-7253765
URL:https://apcvilleneuvedascq.fr/event/rencontres-au-vert/
LOCATION:La Ferme d’en Haut\, 268 Rue Jules Guesde\, Villeneuve d'Ascq\, 59650\, France
END:VEVENT
BEGIN:VEVENT
DTSTART;TZID=Europe/Paris:20240307T181500
DTEND;TZID=Europe/Paris:20240307T191500
DTSTAMP:20260425T185223
CREATED:20240221T082803Z
LAST-MODIFIED:20240221T083344Z
UID:3396-1709835300-1709838900@apcvilleneuvedascq.fr
SUMMARY:Permanence de la Grainothèque
DESCRIPTION:L’ équipe de la Grainothèque vous accueille tous les premiers jeudis du mois de 18h15 à 19h30 à la Ferme d’en Haut. \nPour plus d’informations\, consultez le site de la Grainothèque  : cliquez-ici.
URL:https://apcvilleneuvedascq.fr/event/permanence-de-la-grainotheque/
LOCATION:La Ferme d’en Haut\, 268 Rue Jules Guesde\, Villeneuve d'Ascq\, 59650\, France
END:VEVENT
END:VCALENDAR