BEGIN:VCALENDAR
VERSION:2.0
PRODID:-//APC - Villeneuve d&#039;Ascq - ECPv6.15.20//NONSGML v1.0//EN
CALSCALE:GREGORIAN
METHOD:PUBLISH
X-WR-CALNAME:APC - Villeneuve d&#039;Ascq
X-ORIGINAL-URL:https://apcvilleneuvedascq.fr
X-WR-CALDESC:Évènements pour APC - Villeneuve d&#039;Ascq
REFRESH-INTERVAL;VALUE=DURATION:PT1H
X-Robots-Tag:noindex
X-PUBLISHED-TTL:PT1H
BEGIN:VTIMEZONE
TZID:Europe/Paris
BEGIN:DAYLIGHT
TZOFFSETFROM:+0100
TZOFFSETTO:+0200
TZNAME:CEST
DTSTART:20250330T010000
END:DAYLIGHT
BEGIN:STANDARD
TZOFFSETFROM:+0200
TZOFFSETTO:+0100
TZNAME:CET
DTSTART:20251026T010000
END:STANDARD
BEGIN:DAYLIGHT
TZOFFSETFROM:+0100
TZOFFSETTO:+0200
TZNAME:CEST
DTSTART:20260329T010000
END:DAYLIGHT
BEGIN:STANDARD
TZOFFSETFROM:+0200
TZOFFSETTO:+0100
TZNAME:CET
DTSTART:20261025T010000
END:STANDARD
BEGIN:DAYLIGHT
TZOFFSETFROM:+0100
TZOFFSETTO:+0200
TZNAME:CEST
DTSTART:20270328T010000
END:DAYLIGHT
BEGIN:STANDARD
TZOFFSETFROM:+0200
TZOFFSETTO:+0100
TZNAME:CET
DTSTART:20271031T010000
END:STANDARD
END:VTIMEZONE
BEGIN:VEVENT
DTSTART;TZID=Europe/Paris:20260321T140000
DTEND;TZID=Europe/Paris:20260321T160000
DTSTAMP:20260425T222930
CREATED:20260310T125752Z
LAST-MODIFIED:20260310T125752Z
UID:7344-1774101600-1774108800@apcvilleneuvedascq.fr
SUMMARY:Club Couture ZD : apprends à utiliser la machine à coudre et crée ton tote bag !
DESCRIPTION:L’APC (Association pour la Promotion de l’écoCitoyenneté) vous invite à participer à un atelier couture pour apprendre les bases de la machine à coudre et réaliser votre première création : un tote bag ! 🧵 \nPratique et réutilisable\, le tote bag est une alternative durable aux sacs jetables (papier ou plastique)\, à condition de l’utiliser régulièrement. \nLe bon geste zéro déchet : refuser les sacs en caisse et les emballages superflus\, et utiliser son tote bag pour transporter vos achats. ♻️ \n🔗 Sur inscription : https://www.helloasso.com/associations/apc-association-pour-la-promotion-de-la-citoyennete-de-villeneuve-d-ascq/evenements/club-couture-zd-apprends-a-utiliser-la-machine-a-coudre-et-cree-ton-tote-bag \n 
URL:https://apcvilleneuvedascq.fr/event/club-couture-zd-apprends-a-utiliser-la-machine-a-coudre-et-cree-ton-tote-bag/
LOCATION:Maison Nelson Mandela des droits de l’Homme et des associations\, 89 chaussée de l'Hôtel de Ville\, Villeneuve d'Ascq\, 59650\, France
CATEGORIES:Zéro Déchet
ATTACH;FMTTYPE=image/jpeg:https://apcvilleneuvedascq.fr/wp-content/uploads/2026/03/evt_couture.jpg
END:VEVENT
END:VCALENDAR