BEGIN:VCALENDAR
VERSION:2.0
PRODID:-//APC - Villeneuve d&#039;Ascq - ECPv6.15.20//NONSGML v1.0//EN
CALSCALE:GREGORIAN
METHOD:PUBLISH
X-WR-CALNAME:APC - Villeneuve d&#039;Ascq
X-ORIGINAL-URL:https://apcvilleneuvedascq.fr
X-WR-CALDESC:Évènements pour APC - Villeneuve d&#039;Ascq
REFRESH-INTERVAL;VALUE=DURATION:PT1H
X-Robots-Tag:noindex
X-PUBLISHED-TTL:PT1H
BEGIN:VTIMEZONE
TZID:Europe/Paris
BEGIN:DAYLIGHT
TZOFFSETFROM:+0100
TZOFFSETTO:+0200
TZNAME:CEST
DTSTART:20240331T010000
END:DAYLIGHT
BEGIN:STANDARD
TZOFFSETFROM:+0200
TZOFFSETTO:+0100
TZNAME:CET
DTSTART:20241027T010000
END:STANDARD
BEGIN:DAYLIGHT
TZOFFSETFROM:+0100
TZOFFSETTO:+0200
TZNAME:CEST
DTSTART:20250330T010000
END:DAYLIGHT
BEGIN:STANDARD
TZOFFSETFROM:+0200
TZOFFSETTO:+0100
TZNAME:CET
DTSTART:20251026T010000
END:STANDARD
BEGIN:DAYLIGHT
TZOFFSETFROM:+0100
TZOFFSETTO:+0200
TZNAME:CEST
DTSTART:20260329T010000
END:DAYLIGHT
BEGIN:STANDARD
TZOFFSETFROM:+0200
TZOFFSETTO:+0100
TZNAME:CET
DTSTART:20261025T010000
END:STANDARD
END:VTIMEZONE
BEGIN:VEVENT
DTSTART;TZID=Europe/Paris:20251115T080000
DTEND;TZID=Europe/Paris:20251115T120000
DTSTAMP:20260426T044637
CREATED:20251028T093043Z
LAST-MODIFIED:20251028T093901Z
UID:6415-1763193600-1763208000@apcvilleneuvedascq.fr
SUMMARY:Opération "Mon boulanger zéro déchet"
DESCRIPTION:L’APC s’associe à la maison Fonseca pour une opération spéciale le samedi 15 novembre\, de 8h à 12h\, à la boulangerie Fonseca de Cousinerie\, 1 avenue de Courtrai à Villeneuve d’Ascq. \nNous serons présent·e·s tout au long de la matinée pour sensibiliser la clientèle à l’usage des sacs à pain réutilisables.\nChaque client souhaitant s’engager dans une démarche de réduction des déchets repartira avec : \n\nun sac à pain en tissu réalisé par nos couturières bénévoles\nune carte de fidélité « zéro déchet » Fonseca\, pour encourager cette habitude écoresponsable au quotidien.\n\n🥖 Pourquoi adopter le sac à pain réutilisable ? \n🌍 Réduction des déchets et des ressources\nMême biodégradable et recyclable\, un sac en papier est généralement utilisé une seule fois (quelques heures) avant d’être jeté\, et sa production reste énergivore pour l’environnement. \n🍞 Conservation du pain\nLa croûte reste croustillante plus longtemps\, pour un pain toujours frais. \n💰 Économies sur le long terme\nUn sac en coton\, lin ou tissu recyclé\, lavable et durable\, dure plus de 1000 utilisations (soit 2 à 5 ans !). Plus cher à l’achat\, certes\, mais réutilisable et même personnalisable si vous le fabriquez vous-même grâce à notre tutoriel 😉. \n🧵 Éthique et esthétique\nSouvent fait main\, il est joli et pratique\, et contribue à encourager les initiatives durables de votre boulangerie.
URL:https://apcvilleneuvedascq.fr/event/operation-mon-boulanger-zero-dechet/
LOCATION:Boulangerie Fonseca\, 1 avenue de Courtrai\, Villeneuve-d'Ascq\, 59650\, France
CATEGORIES:Zéro Déchet
ATTACH;FMTTYPE=image/jpeg:https://apcvilleneuvedascq.fr/wp-content/uploads/2025/10/mon_boulanger_zd_evt.jpg
END:VEVENT
END:VCALENDAR