BEGIN:VCALENDAR
VERSION:2.0
PRODID:-//APC - Villeneuve d&#039;Ascq - ECPv6.15.20//NONSGML v1.0//EN
CALSCALE:GREGORIAN
METHOD:PUBLISH
X-ORIGINAL-URL:https://apcvilleneuvedascq.fr
X-WR-CALDESC:Évènements pour APC - Villeneuve d&#039;Ascq
REFRESH-INTERVAL;VALUE=DURATION:PT1H
X-Robots-Tag:noindex
X-PUBLISHED-TTL:PT1H
BEGIN:VTIMEZONE
TZID:Europe/Paris
BEGIN:DAYLIGHT
TZOFFSETFROM:+0100
TZOFFSETTO:+0200
TZNAME:CEST
DTSTART:20250330T010000
END:DAYLIGHT
BEGIN:STANDARD
TZOFFSETFROM:+0200
TZOFFSETTO:+0100
TZNAME:CET
DTSTART:20251026T010000
END:STANDARD
BEGIN:DAYLIGHT
TZOFFSETFROM:+0100
TZOFFSETTO:+0200
TZNAME:CEST
DTSTART:20260329T010000
END:DAYLIGHT
BEGIN:STANDARD
TZOFFSETFROM:+0200
TZOFFSETTO:+0100
TZNAME:CET
DTSTART:20261025T010000
END:STANDARD
BEGIN:DAYLIGHT
TZOFFSETFROM:+0100
TZOFFSETTO:+0200
TZNAME:CEST
DTSTART:20270328T010000
END:DAYLIGHT
BEGIN:STANDARD
TZOFFSETFROM:+0200
TZOFFSETTO:+0100
TZNAME:CET
DTSTART:20271031T010000
END:STANDARD
END:VTIMEZONE
BEGIN:VEVENT
DTSTART;TZID=Europe/Paris:20260123T180000
DTEND;TZID=Europe/Paris:20260123T200000
DTSTAMP:20260426T030523
CREATED:20260110T091610Z
LAST-MODIFIED:20260110T091610Z
UID:6976-1769191200-1769198400@apcvilleneuvedascq.fr
SUMMARY:Réunion Incroyables Comestibles - préparation de l'année 2026
DESCRIPTION:Dans le cadre de la préparation de l’année 2026\, nous vous proposons de nous retrouver pour une réunion conviviale et participative autour de la thématique des Incroyables Comestibles 🌿🍓 \n📅 Vendredi 23 janvier\, de 18h à 20h\n📍 Maison Nelson Mandela – 89 chaussée de l’Hôtel de Ville\, Villeneuve d’Ascq \n🗂️ Ordre du jour \n1️⃣ Recueil des besoins des différents jardins  \n👉 Travaux à prévoir : réaménagements\, plantations\, entretien…\n👉 Accompagnement possible : \n\nPrise de rendez-vous avec Philippe Biarnaix pour repenser un jardin ou mener des travaux importants\n👉 Planification des commandes : BRF / compost\n👉 Besoins en matériel et en plants :\nachats pour les jardins\npossibilité de commandes groupées\nmise à disposition des graines de la Grainothèque \nréflexion autour de la création d’une outilthèque \n\n👉Bénévolat et référents :  \n\nrecherche de nouveaux référents ou co-référents\npossibilité de lancer des appels à bénévoles ou à candidatures\n\n2️⃣ Avenir des jardins peu investis  \nPour les jardins aujourd’hui peu fréquentés ou délaissés : \n\nquelles orientations envisager ?\nredimensionnement\, transformation en zones fruitières \nnouvelles animations ou usages possibles\n\n3️⃣ Projets de nouveaux jardins partagés \nProjets en cours : \n\nparticipation aux animations et chantiers du jardin partagé de Pont de Bois\nprojet de jardin partagé à la Cousinerie (Clément Huyghes)\nProjet de reprise du jardin de Carréo à la Ferme d’en Haut\n\nÀ discuter également : \n\nrecueil d’idées pour l’implantation de nouveaux jardins partagés sur la ville\n\n4️⃣ Incroyables Comestibles\, zones fruitières et plantations « sauvages »  \n\nBacs Incroyables Comestibles \nActions de plantations “sauvages” prévues au printemps (Clémenthe)\n\n5️⃣ Animations et communication autour des jardins  \n\norganisation de balades à vélo ou à pied pour découvrir les jardins\ntravail sur la signalétique des jardins\, en lien avec le service communication de la Ville \npartage d’autres idées et propositions
URL:https://apcvilleneuvedascq.fr/event/reunion-incroyables-comestibles-preparation-de-lannee-2026/
LOCATION:Maison Nelson Mandela des droits de l’Homme et des associations\, 89 chaussée de l'Hôtel de Ville\, Villeneuve d'Ascq\, 59650\, France
CATEGORIES:Incroyables Comestibles
ATTACH;FMTTYPE=image/jpeg:https://apcvilleneuvedascq.fr/wp-content/uploads/2026/01/illu_-Reunion_IC.jpg
END:VEVENT
END:VCALENDAR