BEGIN:VCALENDAR
VERSION:2.0
PRODID:-//APC - Villeneuve d&#039;Ascq - ECPv6.15.20//NONSGML v1.0//EN
CALSCALE:GREGORIAN
METHOD:PUBLISH
X-WR-CALNAME:APC - Villeneuve d&#039;Ascq
X-ORIGINAL-URL:https://apcvilleneuvedascq.fr
X-WR-CALDESC:Évènements pour APC - Villeneuve d&#039;Ascq
REFRESH-INTERVAL;VALUE=DURATION:PT1H
X-Robots-Tag:noindex
X-PUBLISHED-TTL:PT1H
BEGIN:VTIMEZONE
TZID:Europe/Paris
BEGIN:DAYLIGHT
TZOFFSETFROM:+0100
TZOFFSETTO:+0200
TZNAME:CEST
DTSTART:20250330T010000
END:DAYLIGHT
BEGIN:STANDARD
TZOFFSETFROM:+0200
TZOFFSETTO:+0100
TZNAME:CET
DTSTART:20251026T010000
END:STANDARD
BEGIN:DAYLIGHT
TZOFFSETFROM:+0100
TZOFFSETTO:+0200
TZNAME:CEST
DTSTART:20260329T010000
END:DAYLIGHT
BEGIN:STANDARD
TZOFFSETFROM:+0200
TZOFFSETTO:+0100
TZNAME:CET
DTSTART:20261025T010000
END:STANDARD
BEGIN:DAYLIGHT
TZOFFSETFROM:+0100
TZOFFSETTO:+0200
TZNAME:CEST
DTSTART:20270328T010000
END:DAYLIGHT
BEGIN:STANDARD
TZOFFSETFROM:+0200
TZOFFSETTO:+0100
TZNAME:CET
DTSTART:20271031T010000
END:STANDARD
END:VTIMEZONE
BEGIN:VEVENT
DTSTART;TZID=Europe/Paris:20261001T181500
DTEND;TZID=Europe/Paris:20261001T193000
DTSTAMP:20260423T000221
CREATED:20260120T094109Z
LAST-MODIFIED:20260120T094249Z
UID:7091-1790878500-1790883000@apcvilleneuvedascq.fr
SUMMARY:Permanence de la Grainothèque à La Ferme d'en Haut
DESCRIPTION:L’équipe de la Grainothèque vous accueille tous les premiers jeudis du mois de 18h15 à 19h30\, de février à octobre\, à la Ferme d’en Haut. \nVenez découvrir la collection de semences de la Grainothèque et repartez avec les graines qui vous plaisent ! \n 
URL:https://apcvilleneuvedascq.fr/event/permanence-de-la-grainotheque-a-la-ferme-den-haut-1026/
LOCATION:La Ferme d’en Haut\, 268 Rue Jules Guesde\, Villeneuve d'Ascq\, 59650\, France
CATEGORIES:Grainothèque
ATTACH;FMTTYPE=image/jpeg:https://apcvilleneuvedascq.fr/wp-content/uploads/2025/12/Illu_Graino_FeH.jpg
END:VEVENT
END:VCALENDAR