BEGIN:VCALENDAR
VERSION:2.0
PRODID:-//APC - Villeneuve d&#039;Ascq - ECPv6.15.20//NONSGML v1.0//EN
CALSCALE:GREGORIAN
METHOD:PUBLISH
X-WR-CALNAME:APC - Villeneuve d&#039;Ascq
X-ORIGINAL-URL:https://apcvilleneuvedascq.fr
X-WR-CALDESC:Évènements pour APC - Villeneuve d&#039;Ascq
REFRESH-INTERVAL;VALUE=DURATION:PT1H
X-Robots-Tag:noindex
X-PUBLISHED-TTL:PT1H
BEGIN:VTIMEZONE
TZID:Europe/Paris
BEGIN:DAYLIGHT
TZOFFSETFROM:+0100
TZOFFSETTO:+0200
TZNAME:CEST
DTSTART:20250330T010000
END:DAYLIGHT
BEGIN:STANDARD
TZOFFSETFROM:+0200
TZOFFSETTO:+0100
TZNAME:CET
DTSTART:20251026T010000
END:STANDARD
BEGIN:DAYLIGHT
TZOFFSETFROM:+0100
TZOFFSETTO:+0200
TZNAME:CEST
DTSTART:20260329T010000
END:DAYLIGHT
BEGIN:STANDARD
TZOFFSETFROM:+0200
TZOFFSETTO:+0100
TZNAME:CET
DTSTART:20261025T010000
END:STANDARD
BEGIN:DAYLIGHT
TZOFFSETFROM:+0100
TZOFFSETTO:+0200
TZNAME:CEST
DTSTART:20270328T010000
END:DAYLIGHT
BEGIN:STANDARD
TZOFFSETFROM:+0200
TZOFFSETTO:+0100
TZNAME:CET
DTSTART:20271031T010000
END:STANDARD
END:VTIMEZONE
BEGIN:VEVENT
DTSTART;TZID=Europe/Paris:20260503T143000
DTEND;TZID=Europe/Paris:20260503T173000
DTSTAMP:20260422T103435
CREATED:20260414T064251Z
LAST-MODIFIED:20260414T064424Z
UID:7568-1777818600-1777829400@apcvilleneuvedascq.fr
SUMMARY:À vue de nez ! Au Musée du Terroir
DESCRIPTION:Présentation de l’évènement\n\nDimanche 3 mai de 14h30 à 17h30\, replongez dans les bonnes odeurs d’autrefois avec des ateliers\, démonstrations et dégustations pour tous les âges ! \nAu programme\n\nAtelier olfactif pour reconnaitre les aromates\nAtelier découverte des menthes\nGrainothèque et jeu de reconnaissance des graines qui sentent\nDémonstration de fabrication de savon avec la Savonnerie Canon\nDégustation de miels et explications sur les bienfaits de la cire d’abeille\n\nDans l’estaminet\nChaque 1er dimanche\, un pianiste anime l’estaminet tout l’après-midi en jouant des airs de variété sur notre piano des années 1880. L’association la Bergerie d’Antan y vend des boissons pour se réchauffer. La vente est au profit des animaux. \nAtelier gaufre\nTous les 1ers dimanches\, vous pourrez confectionner et déguster une gaufre à la cassonade d’après une recette traditionnelle du Nord ! \nVisites guidées\nDes visites guidées en rapport avec la thématique sont organisées à 16h. \nLes animaux de la ferme\nChaque 1er dimanche\, vous pouvez caliner et chouchouter les animaux de la bergerie d’Antan installée à côté du musée! \nGratuit – Sans inscription
URL:https://apcvilleneuvedascq.fr/event/a-vue-de-nez-au-musee-du-terroir/
LOCATION:Musée du Terroir\, 12 carrière Delporte\, Villeneuve d'Ascq\, 59650
CATEGORIES:Atelier / animation,Grainothèque
ATTACH;FMTTYPE=image/jpeg:https://apcvilleneuvedascq.fr/wp-content/uploads/2026/04/A-vue-de-nez.jpg
END:VEVENT
BEGIN:VEVENT
DTSTART;TZID=Europe/Paris:20260507T181500
DTEND;TZID=Europe/Paris:20260507T193000
DTSTAMP:20260422T103435
CREATED:20260120T093012Z
LAST-MODIFIED:20260120T093044Z
UID:7084-1778177700-1778182200@apcvilleneuvedascq.fr
SUMMARY:Permanence de la Grainothèque à La Ferme d'en Haut
DESCRIPTION:L’équipe de la Grainothèque vous accueille tous les premiers jeudis du mois de 18h15 à 19h30\, de février à octobre\, à la Ferme d’en Haut. \nVenez découvrir la collection de semences de la Grainothèque et repartez avec les graines qui vous plaisent ! \n 
URL:https://apcvilleneuvedascq.fr/event/permanence-de-la-grainotheque-a-la-ferme-den-haut-0526/
LOCATION:La Ferme d’en Haut\, 268 Rue Jules Guesde\, Villeneuve d'Ascq\, 59650\, France
CATEGORIES:Grainothèque
ATTACH;FMTTYPE=image/jpeg:https://apcvilleneuvedascq.fr/wp-content/uploads/2025/12/Illu_Graino_FeH.jpg
END:VEVENT
BEGIN:VEVENT
DTSTART;TZID=Europe/Paris:20260511T173000
DTEND;TZID=Europe/Paris:20260511T190000
DTSTAMP:20260422T103435
CREATED:20260414T064702Z
LAST-MODIFIED:20260414T064702Z
UID:7571-1778520600-1778526000@apcvilleneuvedascq.fr
SUMMARY:Permanence de la Grainothèque à La Maison Nelson Mandela
DESCRIPTION:La Grainothèque de Villeneuve-d’Ascq a la particularité de ne pas être en accès libre. Elle est animée par les bénévoles de l’APC (Association pour la Promotion de la Citoyenneté) et des Jardiniers de Villeneuve d’Ascq qui vous accueillent avec plaisir pour échanger\, partager leurs expériences et vous conseiller.\nLe fonctionnement de la Grainothèque est simple :\nPrendre des graines\nLes bénévoles préparent pour vous une pochette contenant les graines souhaitées et peuvent vous conseiller sur la manière de les semer.\nVous pouvez prendre des graines même si vous n’en avez pas à échanger. Nous comptons cependant sur vous pour en rapporter lors de la prochaine saison !\nDonner des graines\nPour donner vos graines\, mettez-les dans une enveloppe ou une pochette  et notez : \n\nNom de la semence (ex. : tomate noire de Crimée)\nDate de récolte (ex. : 09/24 ou septembre 2024)\nProvenance (ex. : jardin de Villeneuve-d’Ascq\, semences Bocquet)\n\n⚠️ Attention : nous n’acceptons pas les graines hybrides F1. \n📍 Maison Nelson Mandela des droits de l’homme et des associations – de 17h30 à 19h\, tous les 2ème lundis du mois\, de février à octobre \n➡️ Plus d’infos (fonctionnement\, catalogue) : https://apcvilleneuvedascq.fr/grainotheque/
URL:https://apcvilleneuvedascq.fr/event/permanence-de-la-grainotheque-a-la-maison-nelson-mandela-mai/
LOCATION:Maison Nelson Mandela des droits de l’Homme et des associations\, 89 chaussée de l'Hôtel de Ville\, Villeneuve d'Ascq\, 59650\, France
CATEGORIES:Grainothèque
ATTACH;FMTTYPE=image/jpeg:https://apcvilleneuvedascq.fr/wp-content/uploads/2026/01/Graino_MDH_openagenda.jpg
END:VEVENT
END:VCALENDAR