BEGIN:VCALENDAR
VERSION:2.0
PRODID:-//APC - Villeneuve d&#039;Ascq - ECPv6.15.20//NONSGML v1.0//EN
CALSCALE:GREGORIAN
METHOD:PUBLISH
X-WR-CALNAME:APC - Villeneuve d&#039;Ascq
X-ORIGINAL-URL:https://apcvilleneuvedascq.fr
X-WR-CALDESC:Évènements pour APC - Villeneuve d&#039;Ascq
REFRESH-INTERVAL;VALUE=DURATION:PT1H
X-Robots-Tag:noindex
X-PUBLISHED-TTL:PT1H
BEGIN:VTIMEZONE
TZID:Europe/Paris
BEGIN:DAYLIGHT
TZOFFSETFROM:+0100
TZOFFSETTO:+0200
TZNAME:CEST
DTSTART:20250330T010000
END:DAYLIGHT
BEGIN:STANDARD
TZOFFSETFROM:+0200
TZOFFSETTO:+0100
TZNAME:CET
DTSTART:20251026T010000
END:STANDARD
BEGIN:DAYLIGHT
TZOFFSETFROM:+0100
TZOFFSETTO:+0200
TZNAME:CEST
DTSTART:20260329T010000
END:DAYLIGHT
BEGIN:STANDARD
TZOFFSETFROM:+0200
TZOFFSETTO:+0100
TZNAME:CET
DTSTART:20261025T010000
END:STANDARD
BEGIN:DAYLIGHT
TZOFFSETFROM:+0100
TZOFFSETTO:+0200
TZNAME:CEST
DTSTART:20270328T010000
END:DAYLIGHT
BEGIN:STANDARD
TZOFFSETFROM:+0200
TZOFFSETTO:+0100
TZNAME:CET
DTSTART:20271031T010000
END:STANDARD
END:VTIMEZONE
BEGIN:VEVENT
DTSTART;TZID=Europe/Paris:20260301T160000
DTEND;TZID=Europe/Paris:20260301T183000
DTSTAMP:20260422T120446
CREATED:20251215T130952Z
LAST-MODIFIED:20260203T161818Z
UID:6703-1772380800-1772389800@apcvilleneuvedascq.fr
SUMMARY:Rencontres au vert : les semis\, conseils et pratiques
DESCRIPTION:Autour de rencontres\, ateliers théoriques\, pratiques et créatifs\, venez apprendre et créer pour que les semis n’aient plus aucun secret pour vous !\nAtelier interactif animé par Louis Gavériaux d’ArbraCulture\, repartez à la maison avec les semis de votre choix et les connaissances pour les réaliser au mieux.\nAvec l’association Takoda\, venez créer un petit jardin adapté à toutes habitations avec de vieilles poches de pantalons.\nLa Grainothèque de l’association APC vous proposera de nombreuses semences potagères et le jardin familial Henri Steux\, situé en face de la Ferme d’en Haut\, vous ouvrira ses portes afin d’échanger avec les jardiniers qui s’en occupent toute l’année.\nGratuit et sans réservation
URL:https://apcvilleneuvedascq.fr/event/rencontres-au-vert-les-semis-conseils-et-pratiques/
LOCATION:La Ferme d’en Haut\, 268 Rue Jules Guesde\, Villeneuve d'Ascq\, 59650\, France
CATEGORIES:Grainothèque
ATTACH;FMTTYPE=image/jpeg:https://apcvilleneuvedascq.fr/wp-content/uploads/2025/12/rencontresauvert_010326.jpg
END:VEVENT
BEGIN:VEVENT
DTSTART;TZID=Europe/Paris:20260305T181500
DTEND;TZID=Europe/Paris:20260305T193000
DTSTAMP:20260422T120446
CREATED:20251208T155318Z
LAST-MODIFIED:20260120T092704Z
UID:6675-1772734500-1772739000@apcvilleneuvedascq.fr
SUMMARY:Permanence de la Grainothèque à La Ferme d'en Haut
DESCRIPTION:L’équipe de la Grainothèque vous accueille tous les premiers jeudis du mois de 18h15 à 19h30\, de février à octobre\, à la Ferme d’en Haut. \nVenez découvrir la collection de semences de la Grainothèque et repartez avec les graines qui vous plaisent ! \n 
URL:https://apcvilleneuvedascq.fr/event/permanence-de-la-graino-0326/
LOCATION:La Ferme d’en Haut\, 268 Rue Jules Guesde\, Villeneuve d'Ascq\, 59650\, France
CATEGORIES:Grainothèque
ATTACH;FMTTYPE=image/jpeg:https://apcvilleneuvedascq.fr/wp-content/uploads/2025/12/Illu_Graino_FeH.jpg
END:VEVENT
BEGIN:VEVENT
DTSTART;TZID=Europe/Paris:20260309T173000
DTEND;TZID=Europe/Paris:20260309T190000
DTSTAMP:20260422T120446
CREATED:20260131T092928Z
LAST-MODIFIED:20260131T092928Z
UID:7258-1773077400-1773082800@apcvilleneuvedascq.fr
SUMMARY:Permanence de la Grainothèque à La Maison Nelson Mandela
DESCRIPTION:La Grainothèque de Villeneuve-d’Ascq a la particularité de ne pas être en accès libre. Elle est animée par les bénévoles de l’APC (Association pour la Promotion de la Citoyenneté) et des Jardiniers de Villeneuve d’Ascq qui vous accueillent avec plaisir pour échanger\, partager leurs expériences et vous conseiller.\nLe fonctionnement de la Grainothèque est simple :\nPrendre des graines\nLes bénévoles préparent pour vous une pochette contenant les graines souhaitées et peuvent vous conseiller sur la manière de les semer.\nVous pouvez prendre des graines même si vous n’en avez pas à échanger. Nous comptons cependant sur vous pour en rapporter lors de la prochaine saison !\nDonner des graines\nPour donner vos graines\, mettez-les dans une enveloppe ou une pochette  et notez : \n\nNom de la semence (ex. : tomate noire de Crimée)\nDate de récolte (ex. : 09/24 ou septembre 2024)\nProvenance (ex. : jardin de Villeneuve-d’Ascq\, semences Bocquet)\n\n⚠️ Attention : nous n’acceptons pas les graines hybrides F1. \n📍 Maison Nelson Mandela des droits de l’homme et des associations – de 17h30 à 19h\, tous les 2ème lundis du mois\, de février à octobre \n➡️ Plus d’infos (fonctionnement\, catalogue) : https://apcvilleneuvedascq.fr/grainotheque/
URL:https://apcvilleneuvedascq.fr/event/permanence-de-la-grainotheque-a-la-maison-nelson-mandela-mars/
LOCATION:Maison Nelson Mandela des droits de l’Homme et des associations\, 89 chaussée de l'Hôtel de Ville\, Villeneuve d'Ascq\, 59650\, France
CATEGORIES:Grainothèque
ATTACH;FMTTYPE=image/jpeg:https://apcvilleneuvedascq.fr/wp-content/uploads/2026/01/Graino_MDH_openagenda.jpg
END:VEVENT
BEGIN:VEVENT
DTSTART;TZID=Europe/Paris:20260325T100000
DTEND;TZID=Europe/Paris:20260325T170000
DTSTAMP:20260422T120446
CREATED:20260323T110822Z
LAST-MODIFIED:20260323T111041Z
UID:7424-1774432800-1774458000@apcvilleneuvedascq.fr
SUMMARY:🌿 Journée Nature – Plongez au cœur de la biodiversité
DESCRIPTION:Retrouvez la Grainothèque de l’APC lors des deux journées nature organisées par la Maif. \nVenez vivre une journée unique dédiée au vivant : découvrez des associations engagées\, rencontrez des passionnés qui œuvrent pour la protection de notre environnement\, et laissez-vous inspirer par des initiatives positives et accessibles à tous. \nAu programme :✨ Des ateliers participatifs pour apprendre en s’amusant\n🌱 Des rencontres avec des associations et entreprises locales actrices de la transition écologique \nQue vous soyez curieux\, amateur de nature ou déjà impliqué\, cette journée est l’occasion parfaite pour apprendre\, expérimenter\, échanger… et agir ! \nN’attendez pas\, inscrivez vous ! \nProgramme de la journée et inscription : https://evenements.maif.fr/8040-journee-nature-plongez-au-coeur-de-la-biodiversite \nHoraires : 10h à 12h / 14h-17h
URL:https://apcvilleneuvedascq.fr/event/%f0%9f%8c%bf-journee-nature-plongez-au-coeur-de-la-biodiversite/
LOCATION:Agence Maif Villeneuve d’Ascq\, 200 Bd de Mons\, VILLENEUVE D ASCQ\, 59650\, France
CATEGORIES:Grainothèque
ATTACH;FMTTYPE=image/jpeg:https://apcvilleneuvedascq.fr/wp-content/uploads/2026/03/evt_maif.jpg
END:VEVENT
BEGIN:VEVENT
DTSTART;TZID=Europe/Paris:20260328T093000
DTEND;TZID=Europe/Paris:20260328T130000
DTSTAMP:20260422T120446
CREATED:20260323T111239Z
LAST-MODIFIED:20260323T131006Z
UID:7429-1774690200-1774702800@apcvilleneuvedascq.fr
SUMMARY:🌿 Journée Nature – Plongez au cœur de la biodiversité
DESCRIPTION:Retrouvez la Grainothèque de l’APC lors des deux journées nature organisées par la Maif. \nVenez vivre une journée unique dédiée au vivant : découvrez des associations engagées\, rencontrez des passionnés qui œuvrent pour la protection de notre environnement\, et laissez-vous inspirer par des initiatives positives et accessibles à tous. \nAu programme :✨ Des ateliers participatifs pour apprendre en s’amusant\n🌱 Des rencontres avec des associations et entreprises locales actrices de la transition écologique \nQue vous soyez curieux\, amateur de nature ou déjà impliqué\, cette journée est l’occasion parfaite pour apprendre\, expérimenter\, échanger… et agir ! \nN’attendez pas\, inscrivez vous ! \nProgramme de la journée et inscription : https://evenements.maif.fr/8040-journee-nature-plongez-au-coeur-de-la-biodiversite \nHoraires : 09h30 à 13h00
URL:https://apcvilleneuvedascq.fr/event/%f0%9f%8c%bf-journee-nature-plongez-au-coeur-de-la-biodiversite-2803/
LOCATION:Agence Maif Villeneuve d’Ascq\, 200 Bd de Mons\, VILLENEUVE D ASCQ\, 59650\, France
CATEGORIES:Grainothèque
ATTACH;FMTTYPE=image/jpeg:https://apcvilleneuvedascq.fr/wp-content/uploads/2026/03/evt_maif.jpg
END:VEVENT
BEGIN:VEVENT
DTSTART;TZID=Europe/Paris:20260331T183000
DTEND;TZID=Europe/Paris:20260331T203000
DTSTAMP:20260422T120446
CREATED:20260323T111735Z
LAST-MODIFIED:20260323T112225Z
UID:7431-1774981800-1774989000@apcvilleneuvedascq.fr
SUMMARY:Ciné-débat « La ferme des Bertrand »
DESCRIPTION:Ciné-débat : La ferme des Bertrand\nLa Grainothèque vous donne rendez-vous lors d’un ciné-débat autour du documentaire « La ferme des Bertrand »\, au cinéma Méliès\, organisé par la Ville de Villeneuve-d’Ascq\, le mardi 31 mars 2026 à 18h30. \nÀ travers le regard du réalisateur Gilles Perret\, découvrez 50 ans de vie d’une ferme en Haute-Savoie et plongez dans les thématiques du travail agricole\, de la transmission et de l’histoire sociale des exploitations familiales. \nInscription obligatoire via le formulaire en ligne :https://reservations.villeneuvedascq.fr/event/ateliersdd_mars2026
URL:https://apcvilleneuvedascq.fr/event/cine-debat-la-ferme-des-bertrand/
LOCATION:Méliès\, Rue Traversière\, centre commercial Triolo\, VILLENEUVE D ASCQ\, 59650\, France
CATEGORIES:Conférence,Grainothèque
ATTACH;FMTTYPE=image/jpeg:https://apcvilleneuvedascq.fr/wp-content/uploads/2026/03/evt_cine_debat.jpg
END:VEVENT
END:VCALENDAR