BEGIN:VCALENDAR
VERSION:2.0
PRODID:-//APC - Villeneuve d&#039;Ascq - ECPv6.15.20//NONSGML v1.0//EN
CALSCALE:GREGORIAN
METHOD:PUBLISH
X-ORIGINAL-URL:https://apcvilleneuvedascq.fr
X-WR-CALDESC:Évènements pour APC - Villeneuve d&#039;Ascq
REFRESH-INTERVAL;VALUE=DURATION:PT1H
X-Robots-Tag:noindex
X-PUBLISHED-TTL:PT1H
BEGIN:VTIMEZONE
TZID:Europe/Paris
BEGIN:DAYLIGHT
TZOFFSETFROM:+0100
TZOFFSETTO:+0200
TZNAME:CEST
DTSTART:20250330T010000
END:DAYLIGHT
BEGIN:STANDARD
TZOFFSETFROM:+0200
TZOFFSETTO:+0100
TZNAME:CET
DTSTART:20251026T010000
END:STANDARD
BEGIN:DAYLIGHT
TZOFFSETFROM:+0100
TZOFFSETTO:+0200
TZNAME:CEST
DTSTART:20260329T010000
END:DAYLIGHT
BEGIN:STANDARD
TZOFFSETFROM:+0200
TZOFFSETTO:+0100
TZNAME:CET
DTSTART:20261025T010000
END:STANDARD
BEGIN:DAYLIGHT
TZOFFSETFROM:+0100
TZOFFSETTO:+0200
TZNAME:CEST
DTSTART:20270328T010000
END:DAYLIGHT
BEGIN:STANDARD
TZOFFSETFROM:+0200
TZOFFSETTO:+0100
TZNAME:CET
DTSTART:20271031T010000
END:STANDARD
END:VTIMEZONE
BEGIN:VEVENT
DTSTART;TZID=Europe/Paris:20260119T163000
DTEND;TZID=Europe/Paris:20260119T183000
DTSTAMP:20260422T151135
CREATED:20251215T131833Z
LAST-MODIFIED:20260110T090353Z
UID:6706-1768840200-1768847400@apcvilleneuvedascq.fr
SUMMARY:Réunion Grainothèque - préparation de l'année 2026
DESCRIPTION:L’équipe de la Grainothèque se réunira en janvier afin de préparer l’année 2026. \n📅 Lundi 19 janvier à 16h30 \n📍 22 bis rue du docteur Roux à Villeneuve d’Ascq (quartier Ascq) \nVous souhaitez devenir bénévole à la Grainothèque cette année ? N’hésitez pas à nous rejoindre à cette occasion pour vous présenter et faire connaissance avec l’équipe. \nPour rappel\, l’engagement bénévole à l’APC peut être ponctuel\, selon vos disponibilités et vos envies. Donner un coup de main sur un ou deux événements dans l’année\, c’est déjà précieux ! \n📝 Ordre du jour :\n• 👋 Accueil des nouveaux bénévoles\n• 📊 Bilan de l’année 2025\n• 📅 Calendrier de l’année 2026\n• 💡 Idées & projets pour 2026
URL:https://apcvilleneuvedascq.fr/event/reunion-grainotheque-preparation-de-lannee/
LOCATION:22 bis rue du docteur Roux\, 22 bis rue du docteur Roux\, Villeneuve-d'Ascq\, 59493\, France
CATEGORIES:Grainothèque
ATTACH;FMTTYPE=image/jpeg:https://apcvilleneuvedascq.fr/wp-content/uploads/2025/01/Illu_Graino.jpg
END:VEVENT
END:VCALENDAR