BEGIN:VCALENDAR
VERSION:2.0
PRODID:-//APC - Villeneuve d&#039;Ascq - ECPv6.15.20//NONSGML v1.0//EN
CALSCALE:GREGORIAN
METHOD:PUBLISH
X-ORIGINAL-URL:https://apcvilleneuvedascq.fr
X-WR-CALDESC:Évènements pour APC - Villeneuve d&#039;Ascq
REFRESH-INTERVAL;VALUE=DURATION:PT1H
X-Robots-Tag:noindex
X-PUBLISHED-TTL:PT1H
BEGIN:VTIMEZONE
TZID:Europe/Paris
BEGIN:DAYLIGHT
TZOFFSETFROM:+0100
TZOFFSETTO:+0200
TZNAME:CEST
DTSTART:20240331T010000
END:DAYLIGHT
BEGIN:STANDARD
TZOFFSETFROM:+0200
TZOFFSETTO:+0100
TZNAME:CET
DTSTART:20241027T010000
END:STANDARD
BEGIN:DAYLIGHT
TZOFFSETFROM:+0100
TZOFFSETTO:+0200
TZNAME:CEST
DTSTART:20250330T010000
END:DAYLIGHT
BEGIN:STANDARD
TZOFFSETFROM:+0200
TZOFFSETTO:+0100
TZNAME:CET
DTSTART:20251026T010000
END:STANDARD
BEGIN:DAYLIGHT
TZOFFSETFROM:+0100
TZOFFSETTO:+0200
TZNAME:CEST
DTSTART:20260329T010000
END:DAYLIGHT
BEGIN:STANDARD
TZOFFSETFROM:+0200
TZOFFSETTO:+0100
TZNAME:CET
DTSTART:20261025T010000
END:STANDARD
END:VTIMEZONE
BEGIN:VEVENT
DTSTART;TZID=Europe/Paris:20251002T181500
DTEND;TZID=Europe/Paris:20251002T193000
DTSTAMP:20260422T192503
CREATED:20250109T151625Z
LAST-MODIFIED:20250707T140303Z
UID:4992-1759428900-1759433400@apcvilleneuvedascq.fr
SUMMARY:Permanence de la Grainothèque à La Ferme d'en Haut
DESCRIPTION:L’équipe de la Grainothèque vous accueille tous les premiers jeudis du mois de 18h15 à 19h30\, de février à octobre\, à la Ferme d’en Haut. \nVenez découvrir la collection de semences de la Grainothèque et repartez avec les graines qui vous plaisent ! \n 
URL:https://apcvilleneuvedascq.fr/event/%f0%9f%8c%b1-permanence-de-la-grainotheque-a-la-ferme-den-haut-8/
LOCATION:La Ferme d’en Haut\, 268 Rue Jules Guesde\, Villeneuve d'Ascq\, 59650\, France
CATEGORIES:Grainothèque
ATTACH;FMTTYPE=image/jpeg:https://apcvilleneuvedascq.fr/wp-content/uploads/2025/01/Illu_Graino.jpg
END:VEVENT
BEGIN:VEVENT
DTSTART;TZID=Europe/Paris:20251005T163000
DTEND;TZID=Europe/Paris:20251005T180000
DTSTAMP:20260422T192503
CREATED:20250707T155028Z
LAST-MODIFIED:20250905T102519Z
UID:5833-1759681800-1759687200@apcvilleneuvedascq.fr
SUMMARY:Rencontres au vert d'automne
DESCRIPTION:La Grainothèque sera présente lors de l’événement « Rencontres aux Verts »\, organisé par la Ferme d’en Haut. \nVenez échanger des graines\, en donner et profiter des animations proposées par notre équipe ! \nDescriptif de l’évènement : Rencontre au vert : un après-midi d’information et d’ateliers autour du thème Arbre et oiseaux\nFigures de notre quotidien\, les arbres et les oiseaux font partie du paysage sans que nous y pensions mais avec un rôle dans la régularisation du climat pour les premiers et pour les seconds un rôle de contrôle des insectes les plus nombreux qui permet le maintien d’espèces secondaires. La Ferme vous proposera une sensibilisation à ces deux espèces très importantes de la biodiversité.\nEntrée libre
URL:https://apcvilleneuvedascq.fr/event/rencontres-au-vert-dautomne/
LOCATION:La Ferme d’en Haut\, 268 Rue Jules Guesde\, Villeneuve d'Ascq\, 59650\, France
CATEGORIES:Grainothèque
ATTACH;FMTTYPE=image/jpeg:https://apcvilleneuvedascq.fr/wp-content/uploads/2025/07/rencontre_vert_oct_25.jpg
END:VEVENT
BEGIN:VEVENT
DTSTART;TZID=Europe/Paris:20251019T150000
DTEND;TZID=Europe/Paris:20251019T170000
DTSTAMP:20260422T192503
CREATED:20250707T162519Z
LAST-MODIFIED:20250707T162519Z
UID:5843-1760886000-1760893200@apcvilleneuvedascq.fr
SUMMARY:Troc de plants\, de graines...et de tout ce qui est utile au jardin ! - Edition d'automne 🍂 🎃
DESCRIPTION:Troc de plants\, de graines… et de tout ce qui est utile au jardin ! \nComme chaque année\, les associations Les Jardiniers de Villeneuve d’Ascq et l’APC organisent un troc de graines\, de plants et tout ce que est utile au jardin. Le troc d’automne se tiendra  le dimanche 20 octobre de 15h à 17h  à la ferme du Héron\, chemin de la Ferme-Lenglet. \nLe troc est ouvert à celles et à ceux qui souhaitent échanger des graines\, des plants (légumes\, fruits\, fleurs\, aromatiques)\, des boutures\, des accessoires de jardinage (pots\, tuteurs\, outils ou même livre) mais aussi des conseils et des astuces ! \nPour des échanges plus faciles\, pensez à étiqueter vos plants (nom de la variété) et à indiquer sur vos enveloppes ou contenants de graines\, la variété et la date de récolte. \nAccès libre et gratuit. \nVous avez beaucoup de plants à échanger ? Réservez une table auprès de l’association des Jardiniers de Villeneuve d’Ascq : asander@orange.fr
URL:https://apcvilleneuvedascq.fr/event/troc-de-plants-de-graines-et-de-tout-ce-qui-est-utile-au-jardin-edition-dautomne-%f0%9f%8d%82-%f0%9f%8e%83-2025/
LOCATION:La Ferme du Héron\, chemin de la Ferme Lenglet\, Villeneuve d'Ascq\, 59650\, France
CATEGORIES:Grainothèque,Incroyables Comestibles
ATTACH;FMTTYPE=image/png:https://apcvilleneuvedascq.fr/wp-content/uploads/2024/04/Les-incroyables-jardiniers-troc.png
ORGANIZER;CN="Jardiniers de Villeneuve d'Ascq":MAILTO:jardiniers.ascq@wanadoo.fr
END:VEVENT
END:VCALENDAR