BEGIN:VCALENDAR
VERSION:2.0
PRODID:-//APC - Villeneuve d&#039;Ascq - ECPv6.15.20//NONSGML v1.0//EN
CALSCALE:GREGORIAN
METHOD:PUBLISH
X-ORIGINAL-URL:https://apcvilleneuvedascq.fr
X-WR-CALDESC:Évènements pour APC - Villeneuve d&#039;Ascq
REFRESH-INTERVAL;VALUE=DURATION:PT1H
X-Robots-Tag:noindex
X-PUBLISHED-TTL:PT1H
BEGIN:VTIMEZONE
TZID:Europe/Paris
BEGIN:DAYLIGHT
TZOFFSETFROM:+0100
TZOFFSETTO:+0200
TZNAME:CEST
DTSTART:20230326T010000
END:DAYLIGHT
BEGIN:STANDARD
TZOFFSETFROM:+0200
TZOFFSETTO:+0100
TZNAME:CET
DTSTART:20231029T010000
END:STANDARD
BEGIN:DAYLIGHT
TZOFFSETFROM:+0100
TZOFFSETTO:+0200
TZNAME:CEST
DTSTART:20240331T010000
END:DAYLIGHT
BEGIN:STANDARD
TZOFFSETFROM:+0200
TZOFFSETTO:+0100
TZNAME:CET
DTSTART:20241027T010000
END:STANDARD
BEGIN:DAYLIGHT
TZOFFSETFROM:+0100
TZOFFSETTO:+0200
TZNAME:CEST
DTSTART:20250330T010000
END:DAYLIGHT
BEGIN:STANDARD
TZOFFSETFROM:+0200
TZOFFSETTO:+0100
TZNAME:CET
DTSTART:20251026T010000
END:STANDARD
END:VTIMEZONE
BEGIN:VEVENT
DTSTART;TZID=Europe/Paris:20241006T100000
DTEND;TZID=Europe/Paris:20241006T180000
DTSTAMP:20260425T125851
CREATED:20240927T085515Z
LAST-MODIFIED:20240927T085515Z
UID:4437-1728208800-1728237600@apcvilleneuvedascq.fr
SUMMARY:🐝 La Grainothèque aux 30 ans du Rucher école
DESCRIPTION:Pour célébrer son 30e anniversaire\, le Rucher École met les petits rayons dans les grands\, en partenariat avec le service Éco-citoyenneté dimanche 6 octobre 2024 de 10h à 18h à la Ferme du Héron.\nAu programme\, un bar à miels\, une démonstration d’extraction\, des visites\, des conseils pour encourager la présence d’abeilles\, une expo des photos de Stéphane Desrumaux\, des infos sur le frelon asiatique\, des contes pour les plus jeunes\, des documentaires… On y trouvera de quoi se restaurer\, et bien sur le bon miel du rucher ! \nLa Grainothèque de Villeneuve d’Ascq sera présente de 10h à 12h et de 15h à 18h pour vous proposer une sélection de graines locales.
URL:https://apcvilleneuvedascq.fr/event/%f0%9f%90%9d-la-grainotheque-aux-30-ans-du-rucher-ecole/
LOCATION:La Ferme du Héron\, chemin de la Ferme Lenglet\, Villeneuve d'Ascq\, 59650\, France
CATEGORIES:Grainothèque
END:VEVENT
END:VCALENDAR